BEGIN:VCALENDAR
VERSION:2.0
PRODID:Living Here Cush Partners Open for Inspection - Modern Apartment in
 Bowen Hills
BEGIN:VTIMEZONE
TZID:Australia/Melbourne
BEGIN:STANDARD
DTSTART:20210227T092000
TZOFFSETTO:+1100
TZNAME:GMT+11
END:STANDARD
END:VTIMEZONE
BEGIN:VEVENT
UID:6036a7d06c4a9
DTSTART;TZID=Australia/Melbourne:20210227T092000
SEQUENCE:0
TRANSP:OPAQUE
DTEND;TZID=Australia/Melbourne:20210227T093500
LOCATION:603/510 St Pauls Terrace BOWEN HILLS QLD
SUMMARY:Living Here Cush Partners Open for Inspection - 603/510 St Pauls
 Terrace BOWEN HILLS QLD
CLASS:PUBLIC
DESCRIPTION:Open for Inspection: 603/510 St Pauls Terrace BOWEN HILLS QLD
 Saturday 27th Feb 09:20am - 09:35am Click the link for full listing
 information: https://livingherecushpartners.com.au/6320202
DTSTAMP:20210224T192400
END:VEVENT
END:VCALENDAR