BEGIN:VCALENDAR
VERSION:2.0
PRODID:Living Here Cush Partners Open for Inspection - Timeless Art Deco
 in the heartland of New Farm
BEGIN:VTIMEZONE
TZID:Australia/Melbourne
BEGIN:STANDARD
DTSTART:20210227T104500
TZOFFSETTO:+1100
TZNAME:GMT+11
END:STANDARD
END:VTIMEZONE
BEGIN:VEVENT
UID:6036a811bd564
DTSTART;TZID=Australia/Melbourne:20210227T104500
SEQUENCE:0
TRANSP:OPAQUE
DTEND;TZID=Australia/Melbourne:20210227T110000
LOCATION:3/1 Julius St NEW FARM QLD
SUMMARY:Living Here Cush Partners Open for Inspection - 3/1 Julius St NEW
 FARM QLD
CLASS:PUBLIC
DESCRIPTION:Open for Inspection: 3/1 Julius St NEW FARM QLD Saturday 27th
 Feb 10:45am - 11:00am Click the link for full listing information:
 https://livingherecushpartners.com.au/6312036
DTSTAMP:20210224T192505
END:VEVENT
END:VCALENDAR