BEGIN:VCALENDAR
VERSION:2.0
PRODID:Living Here Cush Partners Open for Inspection - Modern & Spacious
 Three Bedroom Townhouse
BEGIN:VTIMEZONE
TZID:Australia/Melbourne
BEGIN:STANDARD
DTSTART:20210227T112000
TZOFFSETTO:+1100
TZNAME:GMT+11
END:STANDARD
END:VTIMEZONE
BEGIN:VEVENT
UID:6036a9a389963
DTSTART;TZID=Australia/Melbourne:20210227T112000
SEQUENCE:0
TRANSP:OPAQUE
DTEND;TZID=Australia/Melbourne:20210227T113500
LOCATION:21/104 Queens Road EVERTON PARK QLD
SUMMARY:Living Here Cush Partners Open for Inspection - 21/104 Queens Road
 EVERTON PARK QLD
CLASS:PUBLIC
DESCRIPTION:Open for Inspection: 21/104 Queens Road EVERTON PARK QLD
 Saturday 27th Feb 11:20am - 11:35am Click the link for full listing
 information: https://livingherecushpartners.com.au/6289040
DTSTAMP:20210224T193147
END:VEVENT
END:VCALENDAR