BEGIN:VCALENDAR
VERSION:2.0
PRODID:Living Here Cush Partners Open for Inspection - Stunning one
 Bedroom Apartment with Prime Location
BEGIN:VTIMEZONE
TZID:Australia/Melbourne
BEGIN:STANDARD
DTSTART:20210227T112500
TZOFFSETTO:+1100
TZNAME:GMT+11
END:STANDARD
END:VTIMEZONE
BEGIN:VEVENT
UID:6036a847ee577
DTSTART;TZID=Australia/Melbourne:20210227T112500
SEQUENCE:0
TRANSP:OPAQUE
DTEND;TZID=Australia/Melbourne:20210227T114000
LOCATION:608/301 Ann Street BRISBANE CITY QLD
SUMMARY:Living Here Cush Partners Open for Inspection - 608/301 Ann Street
 BRISBANE CITY QLD
CLASS:PUBLIC
DESCRIPTION:Open for Inspection: 608/301 Ann Street BRISBANE CITY QLD
 Saturday 27th Feb 11:25am - 11:40am Click the link for full listing
 information: https://livingherecushpartners.com.au/6286568
DTSTAMP:20210224T192559
END:VEVENT
END:VCALENDAR