BEGIN:VCALENDAR
VERSION:2.0
PRODID:Living Here Cush Partners Open for Inspection - Pet Friendly and
 Beautiful 2 Level Town Home
BEGIN:VTIMEZONE
TZID:Australia/Melbourne
BEGIN:STANDARD
DTSTART:20210227T101500
TZOFFSETTO:+1100
TZNAME:GMT+11
END:STANDARD
END:VTIMEZONE
BEGIN:VEVENT
UID:6036a95675ed3
DTSTART;TZID=Australia/Melbourne:20210227T101500
SEQUENCE:0
TRANSP:OPAQUE
DTEND;TZID=Australia/Melbourne:20210227T103000
LOCATION:8/38 Villiers Street NEW FARM QLD
SUMMARY:Living Here Cush Partners Open for Inspection - 8/38 Villiers
 Street NEW FARM QLD
CLASS:PUBLIC
DESCRIPTION:Open for Inspection: 8/38 Villiers Street NEW FARM QLD
 Saturday 27th Feb 10:15am - 10:30am Click the link for full listing
 information: https://livingherecushpartners.com.au/6256230
DTSTAMP:20210224T193030
END:VEVENT
END:VCALENDAR