BEGIN:VCALENDAR
VERSION:2.0
PRODID:Living Here Cush Partners Open for Inspection - Ultra Luxury
 Apartment with Views of Botanical Gardens
BEGIN:VTIMEZONE
TZID:Australia/Melbourne
BEGIN:STANDARD
DTSTART:20210227T140500
TZOFFSETTO:+1100
TZNAME:GMT+11
END:STANDARD
END:VTIMEZONE
BEGIN:VEVENT
UID:6036aa59c7021
DTSTART;TZID=Australia/Melbourne:20210227T140500
SEQUENCE:0
TRANSP:OPAQUE
DTEND;TZID=Australia/Melbourne:20210227T142000
LOCATION:507/140 Alice Street BRISBANE CITY QLD
SUMMARY:Living Here Cush Partners Open for Inspection - 507/140 Alice
 Street BRISBANE CITY QLD
CLASS:PUBLIC
DESCRIPTION:Open for Inspection: 507/140 Alice Street BRISBANE CITY QLD
 Saturday 27th Feb 14:05pm - 14:20pm Click the link for full listing
 information: https://livingherecushpartners.com.au/6255025
DTSTAMP:20210224T193449
END:VEVENT
END:VCALENDAR