BEGIN:VCALENDAR
VERSION:2.0
PRODID:Living Here Cush Partners Open for Inspection - Luxury Penthouse
 For Relaxed Lifestyle With River & City View
BEGIN:VTIMEZONE
TZID:Australia/Melbourne
BEGIN:STANDARD
DTSTART:20210227T115500
TZOFFSETTO:+1100
TZNAME:GMT+11
END:STANDARD
END:VTIMEZONE
BEGIN:VEVENT
UID:6036a9cba98c4
DTSTART;TZID=Australia/Melbourne:20210227T115500
SEQUENCE:0
TRANSP:OPAQUE
DTEND;TZID=Australia/Melbourne:20210227T121000
LOCATION:462/30 Macrossan Street BRISBANE CITY QLD
SUMMARY:Living Here Cush Partners Open for Inspection - 462/30 Macrossan
 Street BRISBANE CITY QLD
CLASS:PUBLIC
DESCRIPTION:Open for Inspection: 462/30 Macrossan Street BRISBANE CITY QLD
 Saturday 27th Feb 11:55am - 12:10pm Click the link for full listing
 information: https://livingherecushpartners.com.au/6079739
DTSTAMP:20210224T193227
END:VEVENT
END:VCALENDAR