BEGIN:VCALENDAR
VERSION:2.0
PRODID:Living Here Cush Partners Open for Inspection - Tidy Studio Room
 with Bills Included - Flexible Lease options
BEGIN:VTIMEZONE
TZID:Australia/Melbourne
BEGIN:STANDARD
DTSTART:20210227T135000
TZOFFSETTO:+1100
TZNAME:GMT+11
END:STANDARD
END:VTIMEZONE
BEGIN:VEVENT
UID:6036a855bfa20
DTSTART;TZID=Australia/Melbourne:20210227T135000
SEQUENCE:0
TRANSP:OPAQUE
DTEND;TZID=Australia/Melbourne:20210227T140500
LOCATION:3/54 Broadway St WOOLLOONGABBA QLD
SUMMARY:Living Here Cush Partners Open for Inspection - 3/54 Broadway St
 WOOLLOONGABBA QLD
CLASS:PUBLIC
DESCRIPTION:Open for Inspection: 3/54 Broadway St WOOLLOONGABBA QLD
 Saturday 27th Feb 13:50pm - 14:05pm Click the link for full listing
 information: https://livingherecushpartners.com.au/6043417
DTSTAMP:20210224T192613
END:VEVENT
END:VCALENDAR