BEGIN:VCALENDAR
VERSION:2.0
PRODID:Living Here Cush Partners Open for Inspection - Beautiful View from
 Executive Apartment - 2 min walk to HSW
BEGIN:VTIMEZONE
TZID:Australia/Melbourne
BEGIN:STANDARD
DTSTART:20210227T124500
TZOFFSETTO:+1100
TZNAME:GMT+11
END:STANDARD
END:VTIMEZONE
BEGIN:VEVENT
UID:6036aa13809aa
DTSTART;TZID=Australia/Melbourne:20210227T124500
SEQUENCE:0
TRANSP:OPAQUE
DTEND;TZID=Australia/Melbourne:20210227T130000
LOCATION:5/7 Boundary Street BRISBANE CITY QLD
SUMMARY:Living Here Cush Partners Open for Inspection - 5/7 Boundary
 Street BRISBANE CITY QLD
CLASS:PUBLIC
DESCRIPTION:Open for Inspection: 5/7 Boundary Street BRISBANE CITY QLD
 Saturday 27th Feb 12:45pm - 13:00pm Click the link for full listing
 information: https://livingherecushpartners.com.au/5996071
DTSTAMP:20210224T193339
END:VEVENT
END:VCALENDAR