BEGIN:VCALENDAR
VERSION:2.0
PRODID:Living Here Cush Partners Open for Inspection - Bills Included!
 Furnished Studio with Beautiful Shared Gardens
BEGIN:VTIMEZONE
TZID:Australia/Melbourne
BEGIN:STANDARD
DTSTART:20210227T121500
TZOFFSETTO:+1100
TZNAME:GMT+11
END:STANDARD
END:VTIMEZONE
BEGIN:VEVENT
UID:6036a9df6d3ac
DTSTART;TZID=Australia/Melbourne:20210227T121500
SEQUENCE:0
TRANSP:OPAQUE
DTEND;TZID=Australia/Melbourne:20210227T123000
LOCATION:2/117 Harcourt Street NEW FARM QLD
SUMMARY:Living Here Cush Partners Open for Inspection - 2/117 Harcourt
 Street NEW FARM QLD
CLASS:PUBLIC
DESCRIPTION:Open for Inspection: 2/117 Harcourt Street NEW FARM QLD
 Saturday 27th Feb 12:15pm - 12:30pm Click the link for full listing
 information: https://livingherecushpartners.com.au/5938823
DTSTAMP:20210224T193247
END:VEVENT
END:VCALENDAR