BEGIN:VCALENDAR
VERSION:2.0
PRODID:Living Here Cush Partners Open for Inspection - Character Home like
 No Other + Massive Back Yard!
BEGIN:VTIMEZONE
TZID:Australia/Melbourne
BEGIN:STANDARD
DTSTART:20210227T114500
TZOFFSETTO:+1100
TZNAME:GMT+11
END:STANDARD
END:VTIMEZONE
BEGIN:VEVENT
UID:6036a9b79e543
DTSTART;TZID=Australia/Melbourne:20210227T114500
SEQUENCE:0
TRANSP:OPAQUE
DTEND;TZID=Australia/Melbourne:20210227T120000
LOCATION:404 Bowen Terrace NEW FARM QLD
SUMMARY:Living Here Cush Partners Open for Inspection - 404 Bowen Terrace
 NEW FARM QLD
CLASS:PUBLIC
DESCRIPTION:Open for Inspection: 404 Bowen Terrace NEW FARM QLD Saturday
 27th Feb 11:45am - 12:00pm Click the link for full listing information:
 https://livingherecushpartners.com.au/5787019
DTSTAMP:20210224T193207
END:VEVENT
END:VCALENDAR