BEGIN:VCALENDAR
VERSION:2.0
PRODID:Living Here Cush Partners Open for Inspection - Enjoy a wine of the
 deck
BEGIN:VTIMEZONE
TZID:Australia/Melbourne
BEGIN:STANDARD
DTSTART:20210227T134000
TZOFFSETTO:+1100
TZNAME:GMT+11
END:STANDARD
END:VTIMEZONE
BEGIN:VEVENT
UID:6036aa470880b
DTSTART;TZID=Australia/Melbourne:20210227T134000
SEQUENCE:0
TRANSP:OPAQUE
DTEND;TZID=Australia/Melbourne:20210227T141000
LOCATION:98 Lower Cairns Terrace PADDINGTON QLD
SUMMARY:Living Here Cush Partners Open for Inspection - 98 Lower Cairns
 Terrace PADDINGTON QLD
CLASS:PUBLIC
DESCRIPTION:Open for Inspection: 98 Lower Cairns Terrace PADDINGTON QLD
 Saturday 27th Feb 13:40pm - 14:10pm Click the link for full listing
 information: https://livingherecushpartners.com.au/5654927
DTSTAMP:20210224T193431
END:VEVENT
END:VCALENDAR