BEGIN:VCALENDAR
VERSION:2.0
PRODID:Living Here Cush Partners Open for Inspection - Refurbished and
 Furnished 2 Bedroom with Views
BEGIN:VTIMEZONE
TZID:Australia/Melbourne
BEGIN:STANDARD
DTSTART:20210227T102000
TZOFFSETTO:+1100
TZNAME:GMT+11
END:STANDARD
END:VTIMEZONE
BEGIN:VEVENT
UID:6036a96439071
DTSTART;TZID=Australia/Melbourne:20210227T102000
SEQUENCE:0
TRANSP:OPAQUE
DTEND;TZID=Australia/Melbourne:20210227T103500
LOCATION:17/251 Gregory Terrace SPRING HILL QLD
SUMMARY:Living Here Cush Partners Open for Inspection - 17/251 Gregory
 Terrace SPRING HILL QLD
CLASS:PUBLIC
DESCRIPTION:Open for Inspection: 17/251 Gregory Terrace SPRING HILL QLD
 Saturday 27th Feb 10:20am - 10:35am Click the link for full listing
 information: https://livingherecushpartners.com.au/5389735
DTSTAMP:20210224T193044
END:VEVENT
END:VCALENDAR