BEGIN:VCALENDAR
VERSION:2.0
PRODID:Living Here Cush Partners Open for Inspection - Beautiful & Modern
 Home in Heart of New Farm + Pool
BEGIN:VTIMEZONE
TZID:Australia/Melbourne
BEGIN:STANDARD
DTSTART:20210227T104500
TZOFFSETTO:+1100
TZNAME:GMT+11
END:STANDARD
END:VTIMEZONE
BEGIN:VEVENT
UID:6036a977a737b
DTSTART;TZID=Australia/Melbourne:20210227T104500
SEQUENCE:0
TRANSP:OPAQUE
DTEND;TZID=Australia/Melbourne:20210227T110000
LOCATION:33 Annie Street NEW FARM QLD
SUMMARY:Living Here Cush Partners Open for Inspection - 33 Annie Street
 NEW FARM QLD
CLASS:PUBLIC
DESCRIPTION:Open for Inspection: 33 Annie Street NEW FARM QLD Saturday
 27th Feb 10:45am - 11:00am Click the link for full listing information:
 https://livingherecushpartners.com.au/5219897
DTSTAMP:20210224T193103
END:VEVENT
END:VCALENDAR