BEGIN:VCALENDAR
VERSION:2.0
PRODID:Living Here Cush Partners Open for Inspection - Newly Renovated Two
 Bedroom Unit in Iconic Powerhouse Apartments
BEGIN:VTIMEZONE
TZID:Australia/Melbourne
BEGIN:STANDARD
DTSTART:20210227T131500
TZOFFSETTO:+1100
TZNAME:GMT+11
END:STANDARD
END:VTIMEZONE
BEGIN:VEVENT
UID:6036aa3d17568
DTSTART;TZID=Australia/Melbourne:20210227T131500
SEQUENCE:0
TRANSP:OPAQUE
DTEND;TZID=Australia/Melbourne:20210227T133000
LOCATION:19/75 Welsby Street NEW FARM QLD
SUMMARY:Living Here Cush Partners Open for Inspection - 19/75 Welsby
 Street NEW FARM QLD
CLASS:PUBLIC
DESCRIPTION:Open for Inspection: 19/75 Welsby Street NEW FARM QLD Saturday
 27th Feb 13:15pm - 13:30pm Click the link for full listing information:
 https://livingherecushpartners.com.au/5186645
DTSTAMP:20210224T193421
END:VEVENT
END:VCALENDAR