BEGIN:VCALENDAR
VERSION:2.0
PRODID:Living Here Cush Partners Open for Inspection - RARE TOP FLOOR ART
 DECO CLASSIC APARTMENT
BEGIN:VTIMEZONE
TZID:Australia/Melbourne
BEGIN:STANDARD
DTSTART:20210227T114500
TZOFFSETTO:+1100
TZNAME:GMT+11
END:STANDARD
END:VTIMEZONE
BEGIN:VEVENT
UID:6036a9ae5a3f8
DTSTART;TZID=Australia/Melbourne:20210227T114500
SEQUENCE:0
TRANSP:OPAQUE
DTEND;TZID=Australia/Melbourne:20210227T120000
LOCATION:6/14 Abbott St NEW FARM QLD
SUMMARY:Living Here Cush Partners Open for Inspection - 6/14 Abbott St NEW
 FARM QLD
CLASS:PUBLIC
DESCRIPTION:Open for Inspection: 6/14 Abbott St NEW FARM QLD Saturday 27th
 Feb 11:45am - 12:00pm Click the link for full listing information:
 https://livingherecushpartners.com.au/4932722
DTSTAMP:20210224T193158
END:VEVENT
END:VCALENDAR