BEGIN:VCALENDAR
VERSION:2.0
PRODID:Living Here Cush Partners Open for Inspection - Beautiful Home in
 Great Location
BEGIN:VTIMEZONE
TZID:Australia/Melbourne
BEGIN:STANDARD
DTSTART:20210227T103000
TZOFFSETTO:+1100
TZNAME:GMT+11
END:STANDARD
END:VTIMEZONE
BEGIN:VEVENT
UID:6036a96d71a87
DTSTART;TZID=Australia/Melbourne:20210227T103000
SEQUENCE:0
TRANSP:OPAQUE
DTEND;TZID=Australia/Melbourne:20210227T104500
LOCATION:15 Olivia Street NORTHGATE QLD
SUMMARY:Living Here Cush Partners Open for Inspection - 15 Olivia Street
 NORTHGATE QLD
CLASS:PUBLIC
DESCRIPTION:Open for Inspection: 15 Olivia Street NORTHGATE QLD Saturday
 27th Feb 10:30am - 10:45am Click the link for full listing information:
 https://livingherecushpartners.com.au/4824769
DTSTAMP:20210224T193053
END:VEVENT
END:VCALENDAR