BEGIN:VCALENDAR
VERSION:2.0
PRODID:Living Here Cush Partners Open for Inspection - Stunning Views from
 9th Level Fully Renovated Apartment 150m2 + Walk to HSW
BEGIN:VTIMEZONE
TZID:Australia/Melbourne
BEGIN:STANDARD
DTSTART:20210227T111500
TZOFFSETTO:+1100
TZNAME:GMT+11
END:STANDARD
END:VTIMEZONE
BEGIN:VEVENT
UID:6036a98b46815
DTSTART;TZID=Australia/Melbourne:20210227T111500
SEQUENCE:0
TRANSP:OPAQUE
DTEND;TZID=Australia/Melbourne:20210227T113000
LOCATION:26/341 Bowen Terrace NEW FARM QLD
SUMMARY:Living Here Cush Partners Open for Inspection - 26/341 Bowen
 Terrace NEW FARM QLD
CLASS:PUBLIC
DESCRIPTION:Open for Inspection: 26/341 Bowen Terrace NEW FARM QLD
 Saturday 27th Feb 11:15am - 11:30am Click the link for full listing
 information: https://livingherecushpartners.com.au/4776836
DTSTAMP:20210224T193123
END:VEVENT
END:VCALENDAR