BEGIN:VCALENDAR
VERSION:2.0
PRODID:Living Here Cush Partners Open for Inspection - Modern Furnished
 Apartment in Great Location
BEGIN:VTIMEZONE
TZID:Australia/Melbourne
BEGIN:STANDARD
DTSTART:20210225T105000
TZOFFSETTO:+1100
TZNAME:GMT+11
END:STANDARD
END:VTIMEZONE
BEGIN:VEVENT
UID:6036a8367394e
DTSTART;TZID=Australia/Melbourne:20210225T105000
SEQUENCE:0
TRANSP:OPAQUE
DTEND;TZID=Australia/Melbourne:20210225T110500
LOCATION:7/300 Wickham Street FORTITUDE VALLEY QLD
SUMMARY:Living Here Cush Partners Open for Inspection - 7/300 Wickham
 Street FORTITUDE VALLEY QLD
CLASS:PUBLIC
DESCRIPTION:Open for Inspection: 7/300 Wickham Street FORTITUDE VALLEY QLD
 Thursday 25th Feb 10:50am - 11:05am Click the link for full listing
 information: https://livingherecushpartners.com.au/4359343
DTSTAMP:20210224T192542
END:VEVENT
END:VCALENDAR