BEGIN:VCALENDAR
VERSION:2.0
PRODID:Living Here Cush Partners Open for Inspection - Renovated Chic New
 Farm Apartment!
BEGIN:VTIMEZONE
TZID:Australia/Melbourne
BEGIN:STANDARD
DTSTART:20210227T101500
TZOFFSETTO:+1100
TZNAME:GMT+11
END:STANDARD
END:VTIMEZONE
BEGIN:VEVENT
UID:6036a94d3f5ab
DTSTART;TZID=Australia/Melbourne:20210227T101500
SEQUENCE:0
TRANSP:OPAQUE
DTEND;TZID=Australia/Melbourne:20210227T103000
LOCATION:7/63 Moray Street NEW FARM QLD
SUMMARY:Living Here Cush Partners Open for Inspection - 7/63 Moray Street
 NEW FARM QLD
CLASS:PUBLIC
DESCRIPTION:Open for Inspection: 7/63 Moray Street NEW FARM QLD Saturday
 27th Feb 10:15am - 10:30am Click the link for full listing information:
 https://livingherecushpartners.com.au/4280188
DTSTAMP:20210224T193021
END:VEVENT
END:VCALENDAR