BEGIN:VCALENDAR
VERSION:2.0
PRODID:Living Here Cush Partners Open for Inspection - STUDIO DESIGN, SELF
 CONTAINED FLAT
BEGIN:VTIMEZONE
TZID:Australia/Melbourne
BEGIN:STANDARD
DTSTART:20210227T124000
TZOFFSETTO:+1100
TZNAME:GMT+11
END:STANDARD
END:VTIMEZONE
BEGIN:VEVENT
UID:6036a9fda314b
DTSTART;TZID=Australia/Melbourne:20210227T124000
SEQUENCE:0
TRANSP:OPAQUE
DTEND;TZID=Australia/Melbourne:20210227T125500
LOCATION:2/294 Kelvin Grove Road KELVIN GROVE QLD
SUMMARY:Living Here Cush Partners Open for Inspection - 2/294 Kelvin Grove
 Road KELVIN GROVE QLD
CLASS:PUBLIC
DESCRIPTION:Open for Inspection: 2/294 Kelvin Grove Road KELVIN GROVE QLD
 Saturday 27th Feb 12:40pm - 12:55pm Click the link for full listing
 information: https://livingherecushpartners.com.au/4221733
DTSTAMP:20210224T193317
END:VEVENT
END:VCALENDAR