BEGIN:VCALENDAR
VERSION:2.0
PRODID:Living Here Cush Partners Open for Inspection - Great Value Unit
 with Pool
BEGIN:VTIMEZONE
TZID:Australia/Melbourne
BEGIN:STANDARD
DTSTART:20210227T123000
TZOFFSETTO:+1100
TZNAME:GMT+11
END:STANDARD
END:VTIMEZONE
BEGIN:VEVENT
UID:6036a9f384d04
DTSTART;TZID=Australia/Melbourne:20210227T123000
SEQUENCE:0
TRANSP:OPAQUE
DTEND;TZID=Australia/Melbourne:20210227T124500
LOCATION:2/3 Heath Street EAST BRISBANE QLD
SUMMARY:Living Here Cush Partners Open for Inspection - 2/3 Heath Street
 EAST BRISBANE QLD
CLASS:PUBLIC
DESCRIPTION:Open for Inspection: 2/3 Heath Street EAST BRISBANE QLD
 Saturday 27th Feb 12:30pm - 12:45pm Click the link for full listing
 information: https://livingherecushpartners.com.au/4092239
DTSTAMP:20210224T193307
END:VEVENT
END:VCALENDAR