BEGIN:VCALENDAR
VERSION:2.0
PRODID:Living Here Cush Partners Open for Inspection - FULLY RENOVATED ONE
 BEDROOM APARTMENT WITH PANORAMIC VIEWS!
BEGIN:VTIMEZONE
TZID:Australia/Melbourne
BEGIN:STANDARD
DTSTART:20210227T112000
TZOFFSETTO:+1100
TZNAME:GMT+11
END:STANDARD
END:VTIMEZONE
BEGIN:VEVENT
UID:6036a9a0825b6
DTSTART;TZID=Australia/Melbourne:20210227T112000
SEQUENCE:0
TRANSP:OPAQUE
DTEND;TZID=Australia/Melbourne:20210227T113500
LOCATION:5c/28 Fortescue Street SPRING HILL QLD
SUMMARY:Living Here Cush Partners Open for Inspection - 5c/28 Fortescue
 Street SPRING HILL QLD
CLASS:PUBLIC
DESCRIPTION:Open for Inspection: 5c/28 Fortescue Street SPRING HILL QLD
 Saturday 27th Feb 11:20am - 11:35am Click the link for full listing
 information: https://livingherecushpartners.com.au/3954810
DTSTAMP:20210224T193144
END:VEVENT
END:VCALENDAR