BEGIN:VCALENDAR
VERSION:2.0
PRODID:Living Here Cush Partners Open for Inspection - Beautifully
 presented Woolstore Apartment with river views
BEGIN:VTIMEZONE
TZID:Australia/Melbourne
BEGIN:STANDARD
DTSTART:20210227T091500
TZOFFSETTO:+1100
TZNAME:GMT+11
END:STANDARD
END:VTIMEZONE
BEGIN:VEVENT
UID:6036a85f5a986
DTSTART;TZID=Australia/Melbourne:20210227T091500
SEQUENCE:0
TRANSP:OPAQUE
DTEND;TZID=Australia/Melbourne:20210227T093000
LOCATION:341/50 Macquarie Street TENERIFFE QLD
SUMMARY:Living Here Cush Partners Open for Inspection - 341/50 Macquarie
 Street TENERIFFE QLD
CLASS:PUBLIC
DESCRIPTION:Open for Inspection: 341/50 Macquarie Street TENERIFFE QLD
 Saturday 27th Feb 09:15am - 09:30am Click the link for full listing
 information: https://livingherecushpartners.com.au/3650739
DTSTAMP:20210224T192623
END:VEVENT
END:VCALENDAR