BEGIN:VCALENDAR
VERSION:2.0
PRODID:Living Here Cush Partners Open for Inspection - PRIME LOCATION
 -WALKING DISTANCE TO COLES AND PARK!!
BEGIN:VTIMEZONE
TZID:Australia/Melbourne
BEGIN:STANDARD
DTSTART:20210227T124500
TZOFFSETTO:+1100
TZNAME:GMT+11
END:STANDARD
END:VTIMEZONE
BEGIN:VEVENT
UID:6036aa082c038
DTSTART;TZID=Australia/Melbourne:20210227T124500
SEQUENCE:0
TRANSP:OPAQUE
DTEND;TZID=Australia/Melbourne:20210227T130000
LOCATION:1/903 Brunswick Street NEW FARM QLD
SUMMARY:Living Here Cush Partners Open for Inspection - 1/903 Brunswick
 Street NEW FARM QLD
CLASS:PUBLIC
DESCRIPTION:Open for Inspection: 1/903 Brunswick Street NEW FARM QLD
 Saturday 27th Feb 12:45pm - 13:00pm Click the link for full listing
 information: https://livingherecushpartners.com.au/3139953
DTSTAMP:20210224T193328
END:VEVENT
END:VCALENDAR