BEGIN:VCALENDAR
VERSION:2.0
PRODID:Living Here Cush Partners Open for Inspection - Unfurnished Studio
 Unit - AVAILABLE NOW!
BEGIN:VTIMEZONE
TZID:Australia/Melbourne
BEGIN:STANDARD
DTSTART:20210227T120500
TZOFFSETTO:+1100
TZNAME:GMT+11
END:STANDARD
END:VTIMEZONE
BEGIN:VEVENT
UID:6036a9d5ae9f1
DTSTART;TZID=Australia/Melbourne:20210227T120500
SEQUENCE:0
TRANSP:OPAQUE
DTEND;TZID=Australia/Melbourne:20210227T122000
LOCATION:3/274 Enoggera Road NEWMARKET QLD
SUMMARY:Living Here Cush Partners Open for Inspection - 3/274 Enoggera
 Road NEWMARKET QLD
CLASS:PUBLIC
DESCRIPTION:Open for Inspection: 3/274 Enoggera Road NEWMARKET QLD
 Saturday 27th Feb 12:05pm - 12:20pm Click the link for full listing
 information: https://livingherecushpartners.com.au/3099474
DTSTAMP:20210224T193237
END:VEVENT
END:VCALENDAR