BEGIN:VCALENDAR
VERSION:2.0
PRODID:Living Here Cush Partners Open for Inspection - Elegance,
 Convenience & Space - Consideration for pets on application
BEGIN:VTIMEZONE
TZID:Australia/Melbourne
BEGIN:STANDARD
DTSTART:20210227T095000
TZOFFSETTO:+1100
TZNAME:GMT+11
END:STANDARD
END:VTIMEZONE
BEGIN:VEVENT
UID:6036a8748644a
DTSTART;TZID=Australia/Melbourne:20210227T095000
SEQUENCE:0
TRANSP:OPAQUE
DTEND;TZID=Australia/Melbourne:20210227T100500
LOCATION:41 Park Street SPRING HILL QLD
SUMMARY:Living Here Cush Partners Open for Inspection - 41 Park Street
 SPRING HILL QLD
CLASS:PUBLIC
DESCRIPTION:Open for Inspection: 41 Park Street SPRING HILL QLD Saturday
 27th Feb 09:50am - 10:05am Click the link for full listing information:
 https://livingherecushpartners.com.au/2974880
DTSTAMP:20210224T192644
END:VEVENT
END:VCALENDAR