BEGIN:VCALENDAR
VERSION:2.0
PRODID:Living Here Cush Partners Open for Inspection - CUTE ART DECO
 APARTMENT
BEGIN:VTIMEZONE
TZID:Australia/Melbourne
BEGIN:STANDARD
DTSTART:20210227T111500
TZOFFSETTO:+1100
TZNAME:GMT+11
END:STANDARD
END:VTIMEZONE
BEGIN:VEVENT
UID:6036a99563db6
DTSTART;TZID=Australia/Melbourne:20210227T111500
SEQUENCE:0
TRANSP:OPAQUE
DTEND;TZID=Australia/Melbourne:20210227T113000
LOCATION:8/140 Moray Street NEW FARM QLD
SUMMARY:Living Here Cush Partners Open for Inspection - 8/140 Moray Street
 NEW FARM QLD
CLASS:PUBLIC
DESCRIPTION:Open for Inspection: 8/140 Moray Street NEW FARM QLD Saturday
 27th Feb 11:15am - 11:30am Click the link for full listing information:
 https://livingherecushpartners.com.au/2722254
DTSTAMP:20210224T193133
END:VEVENT
END:VCALENDAR