BEGIN:VCALENDAR
VERSION:2.0
PRODID:Living Here Cush Partners Open for Inspection - FULLY FURNISHED TOP
 FLOOR 2 BEDROOM APARTMENT WITH RESORT STYLE AMENITIES
BEGIN:VTIMEZONE
TZID:Australia/Melbourne
BEGIN:STANDARD
DTSTART:20210227T115000
TZOFFSETTO:+1100
TZNAME:GMT+11
END:STANDARD
END:VTIMEZONE
BEGIN:VEVENT
UID:6036a9c15a4db
DTSTART;TZID=Australia/Melbourne:20210227T115000
SEQUENCE:0
TRANSP:OPAQUE
DTEND;TZID=Australia/Melbourne:20210227T120500
LOCATION:191/170 Leichardt St SPRING HILL QLD
SUMMARY:Living Here Cush Partners Open for Inspection - 191/170 Leichardt
 St SPRING HILL QLD
CLASS:PUBLIC
DESCRIPTION:Open for Inspection: 191/170 Leichardt St SPRING HILL QLD
 Saturday 27th Feb 11:50am - 12:05pm Click the link for full listing
 information: https://livingherecushpartners.com.au/2643953
DTSTAMP:20210224T193217
END:VEVENT
END:VCALENDAR