BEGIN:VCALENDAR
VERSION:2.0
PRODID:Living Here Cush Partners Open for Inspection - ONE WEEKS FREE RENT
 ! Fully Furnished, Spacious and Renovated  - BILLS INCLUDED!! ROOM 2 & 4
BEGIN:VTIMEZONE
TZID:Australia/Melbourne
BEGIN:STANDARD
DTSTART:20210227T131000
TZOFFSETTO:+1100
TZNAME:GMT+11
END:STANDARD
END:VTIMEZONE
BEGIN:VEVENT
UID:6036aa321189c
DTSTART;TZID=Australia/Melbourne:20210227T131000
SEQUENCE:0
TRANSP:OPAQUE
DTEND;TZID=Australia/Melbourne:20210227T132500
LOCATION:40b Clyde Road KELVIN GROVE QLD
SUMMARY:Living Here Cush Partners Open for Inspection - 40b Clyde Road
 KELVIN GROVE QLD
CLASS:PUBLIC
DESCRIPTION:Open for Inspection: 40b Clyde Road KELVIN GROVE QLD Saturday
 27th Feb 13:10pm - 13:25pm Click the link for full listing information:
 https://livingherecushpartners.com.au/2619126
DTSTAMP:20210224T193410
END:VEVENT
END:VCALENDAR