BEGIN:VCALENDAR
VERSION:2.0
PRODID:Living Here Cush Partners Open for Inspection - PERFECTLY DESIGNED
 TOWNHOUSE - DO NOT MISS THIS OPPORTUNITY!!
BEGIN:VTIMEZONE
TZID:Australia/Melbourne
BEGIN:STANDARD
DTSTART:20210227T134000
TZOFFSETTO:+1100
TZNAME:GMT+11
END:STANDARD
END:VTIMEZONE
BEGIN:VEVENT
UID:6036aa4fc68a7
DTSTART;TZID=Australia/Melbourne:20210227T134000
SEQUENCE:0
TRANSP:OPAQUE
DTEND;TZID=Australia/Melbourne:20210227T135500
LOCATION:43A Aberleigh Road HERSTON QLD
SUMMARY:Living Here Cush Partners Open for Inspection - 43A Aberleigh Road
 HERSTON QLD
CLASS:PUBLIC
DESCRIPTION:Open for Inspection: 43A Aberleigh Road HERSTON QLD Saturday
 27th Feb 13:40pm - 13:55pm Click the link for full listing information:
 https://livingherecushpartners.com.au/2592344
DTSTAMP:20210224T193439
END:VEVENT
END:VCALENDAR