BEGIN:VCALENDAR
VERSION:2.0
PRODID:Living Here Cush Partners Open for Inspection - Beautiful
 Traditional Queenslander!
BEGIN:VTIMEZONE
TZID:Australia/Melbourne
BEGIN:STANDARD
DTSTART:20210227T122000
TZOFFSETTO:+1100
TZNAME:GMT+11
END:STANDARD
END:VTIMEZONE
BEGIN:VEVENT
UID:6036a9e956ad2
DTSTART;TZID=Australia/Melbourne:20210227T122000
SEQUENCE:0
TRANSP:OPAQUE
DTEND;TZID=Australia/Melbourne:20210227T123500
LOCATION:32 Twine Street SPRING HILL QLD
SUMMARY:Living Here Cush Partners Open for Inspection - 32 Twine Street
 SPRING HILL QLD
CLASS:PUBLIC
DESCRIPTION:Open for Inspection: 32 Twine Street SPRING HILL QLD Saturday
 27th Feb 12:20pm - 12:35pm Click the link for full listing information:
 https://livingherecushpartners.com.au/2587416
DTSTAMP:20210224T193257
END:VEVENT
END:VCALENDAR