BEGIN:VCALENDAR
VERSION:2.0
PRODID:Living Here Cush Partners Open for Inspection - Fully Furnished 2
 Bed in the heart of New Farm...!!
BEGIN:VTIMEZONE
TZID:Australia/Melbourne
BEGIN:STANDARD
DTSTART:20210227T091500
TZOFFSETTO:+1100
TZNAME:GMT+11
END:STANDARD
END:VTIMEZONE
BEGIN:VEVENT
UID:6036a86a2a42b
DTSTART;TZID=Australia/Melbourne:20210227T091500
SEQUENCE:0
TRANSP:OPAQUE
DTEND;TZID=Australia/Melbourne:20210227T093000
LOCATION:13/309 Bowen Terrace NEW FARM QLD
SUMMARY:Living Here Cush Partners Open for Inspection - 13/309 Bowen
 Terrace NEW FARM QLD
CLASS:PUBLIC
DESCRIPTION:Open for Inspection: 13/309 Bowen Terrace NEW FARM QLD
 Saturday 27th Feb 09:15am - 09:30am Click the link for full listing
 information: https://livingherecushpartners.com.au/2570300
DTSTAMP:20210224T192634
END:VEVENT
END:VCALENDAR